BEGIN:VCALENDAR
VERSION:2.0
PRODID:-//ILMA USA - ECPv6.15.20//NONSGML v1.0//EN
CALSCALE:GREGORIAN
METHOD:PUBLISH
X-WR-CALNAME:ILMA USA
X-ORIGINAL-URL:https://ilmausa.org
X-WR-CALDESC:Events for ILMA USA
REFRESH-INTERVAL;VALUE=DURATION:PT1H
X-Robots-Tag:noindex
X-PUBLISHED-TTL:PT1H
BEGIN:VTIMEZONE
TZID:America/Chicago
BEGIN:DAYLIGHT
TZOFFSETFROM:-0600
TZOFFSETTO:-0500
TZNAME:CDT
DTSTART:20250309T080000
END:DAYLIGHT
BEGIN:STANDARD
TZOFFSETFROM:-0500
TZOFFSETTO:-0600
TZNAME:CST
DTSTART:20251102T070000
END:STANDARD
BEGIN:DAYLIGHT
TZOFFSETFROM:-0600
TZOFFSETTO:-0500
TZNAME:CDT
DTSTART:20260308T080000
END:DAYLIGHT
BEGIN:STANDARD
TZOFFSETFROM:-0500
TZOFFSETTO:-0600
TZNAME:CST
DTSTART:20261101T070000
END:STANDARD
BEGIN:DAYLIGHT
TZOFFSETFROM:-0600
TZOFFSETTO:-0500
TZNAME:CDT
DTSTART:20270314T080000
END:DAYLIGHT
BEGIN:STANDARD
TZOFFSETFROM:-0500
TZOFFSETTO:-0600
TZNAME:CST
DTSTART:20271107T070000
END:STANDARD
END:VTIMEZONE
BEGIN:VEVENT
DTSTART;TZID=America/Chicago:20260422T190000
DTEND;TZID=America/Chicago:20260422T210000
DTSTAMP:20260423T142409
CREATED:20260331T151414Z
LAST-MODIFIED:20260414T141636Z
UID:16769-1776884400-1776891600@ilmausa.org
SUMMARY:✨ ILMA Kansas Special Evening
DESCRIPTION:Join the ILMA Kansas Board\, hosted by George & Jocelyne Laham\, for a special evening in support of the ILMA Research Fellowship Program. We warmly welcome spouses to be part of this event. \nThis inspiring gathering brings together physicians\, fellows\, and supporters to meet our ILMA Research Fellows\, celebrate their achievements\, and connect with University of Kansas department chairs and distinguished leaders\, while fostering meaningful connections and supporting the future of medical education and research. \n💙Support the ILMA Research Fellowship Program through donations here.
URL:https://ilmausa.org/event/ilma-kansas-chapter-special-evening/
LOCATION:YaYa’s Euro Bistro\, 8115 E 21st St N\, Wichita\, KS 67206\, United States\, Wichita\, KS\, United States
END:VEVENT
END:VCALENDAR