BEGIN:VCALENDAR
VERSION:2.0
PRODID:-//ILMA USA - ECPv6.15.20//NONSGML v1.0//EN
CALSCALE:GREGORIAN
METHOD:PUBLISH
X-WR-CALNAME:ILMA USA
X-ORIGINAL-URL:https://ilmausa.org
X-WR-CALDESC:Events for ILMA USA
REFRESH-INTERVAL;VALUE=DURATION:PT1H
X-Robots-Tag:noindex
X-PUBLISHED-TTL:PT1H
BEGIN:VTIMEZONE
TZID:America/Chicago
BEGIN:DAYLIGHT
TZOFFSETFROM:-0600
TZOFFSETTO:-0500
TZNAME:CDT
DTSTART:20250309T080000
END:DAYLIGHT
BEGIN:STANDARD
TZOFFSETFROM:-0500
TZOFFSETTO:-0600
TZNAME:CST
DTSTART:20251102T070000
END:STANDARD
BEGIN:DAYLIGHT
TZOFFSETFROM:-0600
TZOFFSETTO:-0500
TZNAME:CDT
DTSTART:20260308T080000
END:DAYLIGHT
BEGIN:STANDARD
TZOFFSETFROM:-0500
TZOFFSETTO:-0600
TZNAME:CST
DTSTART:20261101T070000
END:STANDARD
BEGIN:DAYLIGHT
TZOFFSETFROM:-0600
TZOFFSETTO:-0500
TZNAME:CDT
DTSTART:20270314T080000
END:DAYLIGHT
BEGIN:STANDARD
TZOFFSETFROM:-0500
TZOFFSETTO:-0600
TZNAME:CST
DTSTART:20271107T070000
END:STANDARD
END:VTIMEZONE
BEGIN:VEVENT
DTSTART;TZID=America/Chicago:20260507T180000
DTEND;TZID=America/Chicago:20260507T200000
DTSTAMP:20260423T182450
CREATED:20260305T173059Z
LAST-MODIFIED:20260414T142402Z
UID:16171-1778176800-1778184000@ilmausa.org
SUMMARY:🍷Taste of Spring – Sip\, Celebrate & Give Back!🌸
DESCRIPTION:Join us for an elegant evening of fine wines\, warm company\, and a shared mission to advance medical research at the University of Kansas (KU).\n❤️ Not able to join? A donation of any size still helps us invest in the researchers of tomorrow. → Donate Here
URL:https://ilmausa.org/event/%f0%9f%8d%b7%f0%9f%8c%b8-taste-of-spring-sip-celebrate-give-back/
LOCATION:YaYa’s Euro Bistro\, 8115 E 21st St N\, Wichita\, KS 67206\, United States\, Wichita\, KS\, United States
END:VEVENT
END:VCALENDAR